BEGIN:VCALENDAR
VERSION:2.0
PRODID:-//Woodlands Church - ECPv6.15.17.1//NONSGML v1.0//EN
CALSCALE:GREGORIAN
METHOD:PUBLISH
X-ORIGINAL-URL:https://www.wc.org
X-WR-CALDESC:Events for Woodlands Church
REFRESH-INTERVAL;VALUE=DURATION:PT1H
X-Robots-Tag:noindex
X-PUBLISHED-TTL:PT1H
BEGIN:VTIMEZONE
TZID:America/Chicago
BEGIN:DAYLIGHT
TZOFFSETFROM:-0600
TZOFFSETTO:-0500
TZNAME:CDT
DTSTART:20220313T080000
END:DAYLIGHT
BEGIN:STANDARD
TZOFFSETFROM:-0500
TZOFFSETTO:-0600
TZNAME:CST
DTSTART:20221106T070000
END:STANDARD
BEGIN:DAYLIGHT
TZOFFSETFROM:-0600
TZOFFSETTO:-0500
TZNAME:CDT
DTSTART:20230312T080000
END:DAYLIGHT
BEGIN:STANDARD
TZOFFSETFROM:-0500
TZOFFSETTO:-0600
TZNAME:CST
DTSTART:20231105T070000
END:STANDARD
BEGIN:DAYLIGHT
TZOFFSETFROM:-0600
TZOFFSETTO:-0500
TZNAME:CDT
DTSTART:20240310T080000
END:DAYLIGHT
BEGIN:STANDARD
TZOFFSETFROM:-0500
TZOFFSETTO:-0600
TZNAME:CST
DTSTART:20241103T070000
END:STANDARD
END:VTIMEZONE
BEGIN:VEVENT
DTSTART;TZID=America/Chicago:20230819T180000
DTEND;TZID=America/Chicago:20230820T130000
DTSTAMP:20260422T093234
CREATED:20230804T211938Z
LAST-MODIFIED:20230804T212437Z
UID:10004293-1692468000-1692536400@www.wc.org
SUMMARY:Wild Weekend
DESCRIPTION:Dates: August 19th and 20th (During Regular Service Times)Where: All Campuses \n\n\n\nWild Weekend will be an awesome\, free experience for every Preschool-5th grader on August 19th and 20th at all of our weekend services! In each of our WC/KIDS areas we will have live exotic animals\, fun animal challenges\, and a giveaway. You won’t want to miss this incredible weekend! Invite your friends\, and come join us for Wild Weekend! \n\n\n\n\n\n\n\nService Times & Locations\n\n\n\n\n\n\n\n\n\nWoodlands\n\n\n\n1 Fellowship Dr. The Woodlands\, TX 77382Saturday: 6pmSunday: 9:30am & 11:30am \n\n\n\n\n\nAtascocita\n\n\n\n18111 W. Lake Houston Pkwy. Humble\, TX 77346Saturday: 6pmSunday: 9:30am & 11:30am \n\n\n\n\n\n\n\n    \n		\n			\n				\n				Frequently Asked Questions \n				\n					\n				\n					\n						\n						\n							\n                                What time is Wild Weekend?\n							\n						\n						\n						\n						\n							Wild Weekend is during our regular service times. Each service typically lasts a little more than an hour. \n                            Saturday: 6PM \n                            Sunday: 9:30AM & 11:30AM \n						\n						\n					\n					\n					\n						\n						\n							\n                                Does it cost any money to attend?\n							\n						\n						\n						\n						\n							No\, it’s a completely free event! You’ll check your kids in just like it’s a normal weekend service. If it’s your first time\, it’s a quick and easy process to check in. \n						\n						\n					\n					\n					\n						\n						\n							\n                                Can my child bring friends?\n							\n						\n						\n						\n						\n							Absolutely! We encourage kids to invite as many friends as possible.
URL:https://www.wc.org/event/wild-weekend/
CATEGORIES:Campus - Woodlands,WC Kids
ATTACH;FMTTYPE=image/jpeg:https://www.wc.org/wp-content/uploads/2023/08/Wild-Weekend-1270x600-min-2-1.jpg
END:VEVENT
BEGIN:VEVENT
DTSTART;TZID=America/Chicago:20230820T090000
DTEND;TZID=America/Chicago:20230820T103000
DTSTAMP:20260422T093234
CREATED:20220222T170522Z
LAST-MODIFIED:20260316T182022Z
UID:10003585-1692522000-1692527400@www.wc.org
SUMMARY:Sunday Traditions Service - Woodlands Campus
DESCRIPTION:Join us in our Chapel in the Woods each Sunday morning for a traditional worship service\, featuring timeless hymns\, led by our choir\, and an uplifting and meaningful message of hope from Pastor Kerry Shook.
URL:https://live.wc.org
CATEGORIES:Campus - Woodlands,Service Times
ATTACH;FMTTYPE=image/png:https://www.wc.org/wp-content/uploads/2022/02/MicrosoftTeams-image-39-1.png
END:VEVENT
BEGIN:VEVENT
DTSTART;TZID=America/Chicago:20230820T113000
DTEND;TZID=America/Chicago:20230820T130000
DTSTAMP:20260422T093234
CREATED:20230221T225011Z
LAST-MODIFIED:20260316T182415Z
UID:10004072-1692531000-1692536400@www.wc.org
SUMMARY:Sunday 11:30 Service - Woodlands & Atascocita Campuses
DESCRIPTION:
URL:http://live.wc.org
CATEGORIES:Campus - Atascocita,Campus - Online,Campus - Woodlands,Service Times
ATTACH;FMTTYPE=image/jpeg:https://www.wc.org/wp-content/uploads/2025/03/Sun_1130-min.jpg
END:VEVENT
BEGIN:VEVENT
DTSTART;TZID=America/Chicago:20230820T180000
DTEND;TZID=America/Chicago:20230820T200000
DTSTAMP:20260422T093234
CREATED:20220107T204945Z
LAST-MODIFIED:20241204T021452Z
UID:10003325-1692554400-1692561600@www.wc.org
SUMMARY:Young Adults Gathering
DESCRIPTION:Woodlands Church YA has returned to in-person services. From ages 18-28\, don’t miss out on experiencing Christ through worship and a message specifically tailored for you. \n\n\n\nWoodlands YA\n\n\n\nSundays at 6pm \n\n\n\n@woodlandsya
URL:https://www.wc.org/youngadults-2/
LOCATION:Woodlands Campus
CATEGORIES:Campus - Woodlands,Service Times,Young Adults
ATTACH;FMTTYPE=image/jpeg:https://www.wc.org/wp-content/uploads/2020/03/YoungAdults.jpg
END:VEVENT
BEGIN:VEVENT
DTSTART;TZID=America/Chicago:20230823T183000
DTEND;TZID=America/Chicago:20230823T183000
DTSTAMP:20260422T093234
CREATED:20220107T204057Z
LAST-MODIFIED:20251215T192828Z
UID:10003074-1692815400-1692815400@www.wc.org
SUMMARY:Student Service
DESCRIPTION:The Student Ministry will have in-person services each Wednesday evening at 6:30pm at all campuses. \n\n\n\nDon’t miss out students (6th-12th Grade) and parents on experiencing Christ through worship\, a message specific for students during this time and engaging games\, skits and stories.
URL:https://www.wc.org/students/
CATEGORIES:Campus - Atascocita,Campus - Woodlands,Service Times,Student Ministry Service
ATTACH;FMTTYPE=image/png:https://www.wc.org/wp-content/uploads/2022/01/Events-Page.png
END:VEVENT
BEGIN:VEVENT
DTSTART;TZID=America/Chicago:20230825T190000
DTEND;TZID=America/Chicago:20230825T213000
DTSTAMP:20260422T093234
CREATED:20230727T211830Z
LAST-MODIFIED:20230727T212047Z
UID:10004277-1692990000-1692999000@www.wc.org
SUMMARY:Vault 6 - Atascocita
DESCRIPTION:CALLING ALL ATASCOCITA CAMPUS INCOMING 6TH GRADERS! Join us on Friday\, August 25th at 7pm at Vault 6 – the best sixth grade event of the year! We are going to have the most epic field day with team games\, video games\, karaoke\, and much more! Food will be provided. We cannot wait to see you there! \n\n\n\n\n\n\n\n\n\n   \n   Register
URL:https://www.wc.org/event/vault-6-atascocita/
CATEGORIES:Campus - Atascocita,Student Ministry
ATTACH;FMTTYPE=image/png:https://www.wc.org/wp-content/uploads/2022/08/Vault-2023-EVENTS.png
END:VEVENT
BEGIN:VEVENT
DTSTART;TZID=America/Chicago:20230826T180000
DTEND;TZID=America/Chicago:20230826T193000
DTSTAMP:20260422T093234
CREATED:20230221T223132Z
LAST-MODIFIED:20260316T181952Z
UID:10002545-1693072800-1693078200@www.wc.org
SUMMARY:Saturday 6:00pm Service - Woodlands Campus
DESCRIPTION:
URL:http://live.wc.org
CATEGORIES:Campus - Online,Campus - Woodlands,Service Times
ATTACH;FMTTYPE=image/jpeg:https://www.wc.org/wp-content/uploads/2025/03/Sat-min.jpg
END:VEVENT
BEGIN:VEVENT
DTSTART;TZID=America/Chicago:20230827T090000
DTEND;TZID=America/Chicago:20230827T103000
DTSTAMP:20260422T093234
CREATED:20220222T170522Z
LAST-MODIFIED:20260316T182022Z
UID:10003586-1693126800-1693132200@www.wc.org
SUMMARY:Sunday Traditions Service - Woodlands Campus
DESCRIPTION:Join us in our Chapel in the Woods each Sunday morning for a traditional worship service\, featuring timeless hymns\, led by our choir\, and an uplifting and meaningful message of hope from Pastor Kerry Shook.
URL:https://live.wc.org
CATEGORIES:Campus - Woodlands,Service Times
ATTACH;FMTTYPE=image/png:https://www.wc.org/wp-content/uploads/2022/02/MicrosoftTeams-image-39-1.png
END:VEVENT
BEGIN:VEVENT
DTSTART;TZID=America/Chicago:20230827T113000
DTEND;TZID=America/Chicago:20230827T130000
DTSTAMP:20260422T093234
CREATED:20230221T225011Z
LAST-MODIFIED:20260316T182415Z
UID:10004073-1693135800-1693141200@www.wc.org
SUMMARY:Sunday 11:30 Service - Woodlands & Atascocita Campuses
DESCRIPTION:
URL:http://live.wc.org
CATEGORIES:Campus - Atascocita,Campus - Online,Campus - Woodlands,Service Times
ATTACH;FMTTYPE=image/jpeg:https://www.wc.org/wp-content/uploads/2025/03/Sun_1130-min.jpg
END:VEVENT
BEGIN:VEVENT
DTSTART;TZID=America/Chicago:20230827T180000
DTEND;TZID=America/Chicago:20230827T200000
DTSTAMP:20260422T093234
CREATED:20220107T204945Z
LAST-MODIFIED:20241204T021452Z
UID:10003326-1693159200-1693166400@www.wc.org
SUMMARY:Young Adults Gathering
DESCRIPTION:Woodlands Church YA has returned to in-person services. From ages 18-28\, don’t miss out on experiencing Christ through worship and a message specifically tailored for you. \n\n\n\nWoodlands YA\n\n\n\nSundays at 6pm \n\n\n\n@woodlandsya
URL:https://www.wc.org/youngadults-2/
LOCATION:Woodlands Campus
CATEGORIES:Campus - Woodlands,Service Times,Young Adults
ATTACH;FMTTYPE=image/jpeg:https://www.wc.org/wp-content/uploads/2020/03/YoungAdults.jpg
END:VEVENT
BEGIN:VEVENT
DTSTART;TZID=America/Chicago:20230830T183000
DTEND;TZID=America/Chicago:20230830T183000
DTSTAMP:20260422T093234
CREATED:20220107T204057Z
LAST-MODIFIED:20251215T192828Z
UID:10003075-1693420200-1693420200@www.wc.org
SUMMARY:Student Service
DESCRIPTION:The Student Ministry will have in-person services each Wednesday evening at 6:30pm at all campuses. \n\n\n\nDon’t miss out students (6th-12th Grade) and parents on experiencing Christ through worship\, a message specific for students during this time and engaging games\, skits and stories.
URL:https://www.wc.org/students/
CATEGORIES:Campus - Atascocita,Campus - Woodlands,Service Times,Student Ministry Service
ATTACH;FMTTYPE=image/png:https://www.wc.org/wp-content/uploads/2022/01/Events-Page.png
END:VEVENT
BEGIN:VEVENT
DTSTART;TZID=America/Chicago:20230901T063000
DTEND;TZID=America/Chicago:20230901T073000
DTSTAMP:20260422T093234
CREATED:20230901T165907Z
LAST-MODIFIED:20230901T165932Z
UID:10002736-1693549800-1693553400@www.wc.org
SUMMARY:WC Dad's Breakfast
DESCRIPTION:Between trying to provide for our family\, be present for our loved ones\, and stay healthy\, life can be overwhelming for dads. If you’re ready to level-up your leadership\, be a better husband and more involved father then join us for a six-week Bible study with light breakfast led by the pastors at Woodlands Church including Pastor Kerry Shook.Cost: $40 \n\n\n\n\nFellowship\n\n\n\nBreakfast Provided\n\n\n\n\nWho is invited: Open to fathers with children in their home.When: Wednesdays\, September 20th – October 25th 6:30 am – 7:30 amWhere: Club 45 \n\n\n\n\n\n   \n   Register
URL:https://www.wc.org/event/dads/
ATTACH;FMTTYPE=image/png:https://www.wc.org/wp-content/uploads/2023/09/Dads-Breakfast-2.png
END:VEVENT
BEGIN:VEVENT
DTSTART;TZID=America/Chicago:20230902T180000
DTEND;TZID=America/Chicago:20230902T193000
DTSTAMP:20260422T093234
CREATED:20230221T223132Z
LAST-MODIFIED:20260316T181952Z
UID:10002546-1693677600-1693683000@www.wc.org
SUMMARY:Saturday 6:00pm Service - Woodlands Campus
DESCRIPTION:
URL:http://live.wc.org
CATEGORIES:Campus - Online,Campus - Woodlands,Service Times
ATTACH;FMTTYPE=image/jpeg:https://www.wc.org/wp-content/uploads/2025/03/Sat-min.jpg
END:VEVENT
BEGIN:VEVENT
DTSTART;TZID=America/Chicago:20230903T090000
DTEND;TZID=America/Chicago:20230903T103000
DTSTAMP:20260422T093234
CREATED:20220222T170522Z
LAST-MODIFIED:20260316T182022Z
UID:10003587-1693731600-1693737000@www.wc.org
SUMMARY:Sunday Traditions Service - Woodlands Campus
DESCRIPTION:Join us in our Chapel in the Woods each Sunday morning for a traditional worship service\, featuring timeless hymns\, led by our choir\, and an uplifting and meaningful message of hope from Pastor Kerry Shook.
URL:https://live.wc.org
CATEGORIES:Campus - Woodlands,Service Times
ATTACH;FMTTYPE=image/png:https://www.wc.org/wp-content/uploads/2022/02/MicrosoftTeams-image-39-1.png
END:VEVENT
BEGIN:VEVENT
DTSTART;TZID=America/Chicago:20230903T113000
DTEND;TZID=America/Chicago:20230903T130000
DTSTAMP:20260422T093234
CREATED:20230221T225011Z
LAST-MODIFIED:20260316T182415Z
UID:10004074-1693740600-1693746000@www.wc.org
SUMMARY:Sunday 11:30 Service - Woodlands & Atascocita Campuses
DESCRIPTION:
URL:http://live.wc.org
CATEGORIES:Campus - Atascocita,Campus - Online,Campus - Woodlands,Service Times
ATTACH;FMTTYPE=image/jpeg:https://www.wc.org/wp-content/uploads/2025/03/Sun_1130-min.jpg
END:VEVENT
BEGIN:VEVENT
DTSTART;TZID=America/Chicago:20230903T180000
DTEND;TZID=America/Chicago:20230903T200000
DTSTAMP:20260422T093234
CREATED:20220107T204945Z
LAST-MODIFIED:20241204T021452Z
UID:10003327-1693764000-1693771200@www.wc.org
SUMMARY:Young Adults Gathering
DESCRIPTION:Woodlands Church YA has returned to in-person services. From ages 18-28\, don’t miss out on experiencing Christ through worship and a message specifically tailored for you. \n\n\n\nWoodlands YA\n\n\n\nSundays at 6pm \n\n\n\n@woodlandsya
URL:https://www.wc.org/youngadults-2/
LOCATION:Woodlands Campus
CATEGORIES:Campus - Woodlands,Service Times,Young Adults
ATTACH;FMTTYPE=image/jpeg:https://www.wc.org/wp-content/uploads/2020/03/YoungAdults.jpg
END:VEVENT
BEGIN:VEVENT
DTSTART;TZID=America/Chicago:20230906T183000
DTEND;TZID=America/Chicago:20230906T183000
DTSTAMP:20260422T093234
CREATED:20220107T204057Z
LAST-MODIFIED:20251215T192828Z
UID:10003076-1694025000-1694025000@www.wc.org
SUMMARY:Student Service
DESCRIPTION:The Student Ministry will have in-person services each Wednesday evening at 6:30pm at all campuses. \n\n\n\nDon’t miss out students (6th-12th Grade) and parents on experiencing Christ through worship\, a message specific for students during this time and engaging games\, skits and stories.
URL:https://www.wc.org/students/
CATEGORIES:Campus - Atascocita,Campus - Woodlands,Service Times,Student Ministry Service
ATTACH;FMTTYPE=image/png:https://www.wc.org/wp-content/uploads/2022/01/Events-Page.png
END:VEVENT
BEGIN:VEVENT
DTSTART;TZID=America/Chicago:20230909T090000
DTEND;TZID=America/Chicago:20230909T150000
DTSTAMP:20260422T093234
CREATED:20220125T220646Z
LAST-MODIFIED:20230606T213007Z
UID:10002385-1694250000-1694271600@www.wc.org
SUMMARY:Bridging The Gap Lay Counseling Training
DESCRIPTION:Bridging the Gap is a training for any individual designed to provide a better understanding of God’s plan for healing. It provides an effective means of communication to individuals who are feeling discouraged\, confused\, helpless and alone. Each session is designed to provide information that is clinically sound and Biblically grounded. Boxed lunches and snacks will be served. Childcare not provided. Please contact lpark@wc.org for more information. \n\n\n\nCost of Training- $180.00 Location: Club 45Dates for Training (Saturday’s)August 19th – 9:00am to 3:00pmSeptember 9th – 9:00am to 3:00pmSeptember 23rd – 9:00am to 3:00pmOctober 7th – 9:00am to 3:00pmOctober 21st – 9:00am to 3:00pm \n\n\n\n\nRegister
URL:https://www.wc.org/event/bridging-the-gap-lay-counseling-training/2023-09-09/
LOCATION:Woodlands Campus
CATEGORIES:Campus - Woodlands,Prayer and Care
ATTACH;FMTTYPE=image/jpeg:https://www.wc.org/wp-content/uploads/2023/06/btg_logo.jpg
END:VEVENT
BEGIN:VEVENT
DTSTART;TZID=America/Chicago:20230909T180000
DTEND;TZID=America/Chicago:20230909T193000
DTSTAMP:20260422T093234
CREATED:20230221T223132Z
LAST-MODIFIED:20260316T181952Z
UID:10002547-1694282400-1694287800@www.wc.org
SUMMARY:Saturday 6:00pm Service - Woodlands Campus
DESCRIPTION:
URL:http://live.wc.org
CATEGORIES:Campus - Online,Campus - Woodlands,Service Times
ATTACH;FMTTYPE=image/jpeg:https://www.wc.org/wp-content/uploads/2025/03/Sat-min.jpg
END:VEVENT
BEGIN:VEVENT
DTSTART;TZID=America/Chicago:20230910T090000
DTEND;TZID=America/Chicago:20230910T103000
DTSTAMP:20260422T093234
CREATED:20220222T170522Z
LAST-MODIFIED:20260316T182022Z
UID:10003588-1694336400-1694341800@www.wc.org
SUMMARY:Sunday Traditions Service - Woodlands Campus
DESCRIPTION:Join us in our Chapel in the Woods each Sunday morning for a traditional worship service\, featuring timeless hymns\, led by our choir\, and an uplifting and meaningful message of hope from Pastor Kerry Shook.
URL:https://live.wc.org
CATEGORIES:Campus - Woodlands,Service Times
ATTACH;FMTTYPE=image/png:https://www.wc.org/wp-content/uploads/2022/02/MicrosoftTeams-image-39-1.png
END:VEVENT
BEGIN:VEVENT
DTSTART;TZID=America/Chicago:20230910T110000
DTEND;TZID=America/Chicago:20230910T140000
DTSTAMP:20260422T093234
CREATED:20230824T171137Z
LAST-MODIFIED:20230921T153853Z
UID:10002722-1694343600-1694354400@www.wc.org
SUMMARY:New Downtown Campus Vision Meeting
DESCRIPTION:We’ve got some exciting news that many in our community will love! We’re taking Woodlands Church right into the heart of Downtown Houston with a brand-new campus! \n\n\n\nThis isn’t just a new chapter; it’s like a whole new book in our Woodlands Church story. We’re talking about reaching new faces\, making fresh connections\, and bringing that unique Woodlands Church experience to the diverse heart of Houston. \n\n\n\nMany of you have asked us about plans to expand into Houston and want to know more\, which is why I’m inviting you to an exclusive Information and Vision Meeting where I’ll share the heart behind this vision and the next steps we will take together. The meeting will take place between services on Sunday\, directly after the 9:30am service on Sunday\, October 15th at the Chapel in the Woods.
URL:https://www.wc.org/event/downtown-campus-vision-meeting/2023-09-10/
CATEGORIES:Campus - All Campuses,Campus - Atascocita,Campus - Online,Campus - Woodlands
ATTACH;FMTTYPE=image/jpeg:https://www.wc.org/wp-content/uploads/2023/08/MicrosoftTeams-image-134.jpg
END:VEVENT
BEGIN:VEVENT
DTSTART;TZID=America/Chicago:20230910T113000
DTEND;TZID=America/Chicago:20230910T130000
DTSTAMP:20260422T093234
CREATED:20230221T225011Z
LAST-MODIFIED:20260316T182415Z
UID:10004075-1694345400-1694350800@www.wc.org
SUMMARY:Sunday 11:30 Service - Woodlands & Atascocita Campuses
DESCRIPTION:
URL:http://live.wc.org
CATEGORIES:Campus - Atascocita,Campus - Online,Campus - Woodlands,Service Times
ATTACH;FMTTYPE=image/jpeg:https://www.wc.org/wp-content/uploads/2025/03/Sun_1130-min.jpg
END:VEVENT
BEGIN:VEVENT
DTSTART;TZID=America/Chicago:20230910T180000
DTEND;TZID=America/Chicago:20230910T200000
DTSTAMP:20260422T093234
CREATED:20220107T204945Z
LAST-MODIFIED:20241204T021452Z
UID:10003328-1694368800-1694376000@www.wc.org
SUMMARY:Young Adults Gathering
DESCRIPTION:Woodlands Church YA has returned to in-person services. From ages 18-28\, don’t miss out on experiencing Christ through worship and a message specifically tailored for you. \n\n\n\nWoodlands YA\n\n\n\nSundays at 6pm \n\n\n\n@woodlandsya
URL:https://www.wc.org/youngadults-2/
LOCATION:Woodlands Campus
CATEGORIES:Campus - Woodlands,Service Times,Young Adults
ATTACH;FMTTYPE=image/jpeg:https://www.wc.org/wp-content/uploads/2020/03/YoungAdults.jpg
END:VEVENT
BEGIN:VEVENT
DTSTART;TZID=America/Chicago:20230913T183000
DTEND;TZID=America/Chicago:20230913T183000
DTSTAMP:20260422T093234
CREATED:20220107T204057Z
LAST-MODIFIED:20251215T192828Z
UID:10003077-1694629800-1694629800@www.wc.org
SUMMARY:Student Service
DESCRIPTION:The Student Ministry will have in-person services each Wednesday evening at 6:30pm at all campuses. \n\n\n\nDon’t miss out students (6th-12th Grade) and parents on experiencing Christ through worship\, a message specific for students during this time and engaging games\, skits and stories.
URL:https://www.wc.org/students/
CATEGORIES:Campus - Atascocita,Campus - Woodlands,Service Times,Student Ministry Service
ATTACH;FMTTYPE=image/png:https://www.wc.org/wp-content/uploads/2022/01/Events-Page.png
END:VEVENT
BEGIN:VEVENT
DTSTART;TZID=America/Chicago:20230916T180000
DTEND;TZID=America/Chicago:20230916T193000
DTSTAMP:20260422T093234
CREATED:20230221T223132Z
LAST-MODIFIED:20260316T181952Z
UID:10002548-1694887200-1694892600@www.wc.org
SUMMARY:Saturday 6:00pm Service - Woodlands Campus
DESCRIPTION:
URL:http://live.wc.org
CATEGORIES:Campus - Online,Campus - Woodlands,Service Times
ATTACH;FMTTYPE=image/jpeg:https://www.wc.org/wp-content/uploads/2025/03/Sat-min.jpg
END:VEVENT
BEGIN:VEVENT
DTSTART;TZID=America/Chicago:20230917T090000
DTEND;TZID=America/Chicago:20230917T103000
DTSTAMP:20260422T093234
CREATED:20220222T170522Z
LAST-MODIFIED:20260316T182022Z
UID:10003589-1694941200-1694946600@www.wc.org
SUMMARY:Sunday Traditions Service - Woodlands Campus
DESCRIPTION:Join us in our Chapel in the Woods each Sunday morning for a traditional worship service\, featuring timeless hymns\, led by our choir\, and an uplifting and meaningful message of hope from Pastor Kerry Shook.
URL:https://live.wc.org
CATEGORIES:Campus - Woodlands,Service Times
ATTACH;FMTTYPE=image/png:https://www.wc.org/wp-content/uploads/2022/02/MicrosoftTeams-image-39-1.png
END:VEVENT
BEGIN:VEVENT
DTSTART;TZID=America/Chicago:20230917T113000
DTEND;TZID=America/Chicago:20230917T130000
DTSTAMP:20260422T093234
CREATED:20230221T225011Z
LAST-MODIFIED:20260316T182415Z
UID:10004076-1694950200-1694955600@www.wc.org
SUMMARY:Sunday 11:30 Service - Woodlands & Atascocita Campuses
DESCRIPTION:
URL:http://live.wc.org
CATEGORIES:Campus - Atascocita,Campus - Online,Campus - Woodlands,Service Times
ATTACH;FMTTYPE=image/jpeg:https://www.wc.org/wp-content/uploads/2025/03/Sun_1130-min.jpg
END:VEVENT
BEGIN:VEVENT
DTSTART;TZID=America/Chicago:20230917T180000
DTEND;TZID=America/Chicago:20230917T200000
DTSTAMP:20260422T093234
CREATED:20220107T204945Z
LAST-MODIFIED:20241204T021452Z
UID:10003329-1694973600-1694980800@www.wc.org
SUMMARY:Young Adults Gathering
DESCRIPTION:Woodlands Church YA has returned to in-person services. From ages 18-28\, don’t miss out on experiencing Christ through worship and a message specifically tailored for you. \n\n\n\nWoodlands YA\n\n\n\nSundays at 6pm \n\n\n\n@woodlandsya
URL:https://www.wc.org/youngadults-2/
LOCATION:Woodlands Campus
CATEGORIES:Campus - Woodlands,Service Times,Young Adults
ATTACH;FMTTYPE=image/jpeg:https://www.wc.org/wp-content/uploads/2020/03/YoungAdults.jpg
END:VEVENT
BEGIN:VEVENT
DTSTART;TZID=America/Chicago:20230920T183000
DTEND;TZID=America/Chicago:20230920T183000
DTSTAMP:20260422T093234
CREATED:20220107T204057Z
LAST-MODIFIED:20251215T192828Z
UID:10003078-1695234600-1695234600@www.wc.org
SUMMARY:Student Service
DESCRIPTION:The Student Ministry will have in-person services each Wednesday evening at 6:30pm at all campuses. \n\n\n\nDon’t miss out students (6th-12th Grade) and parents on experiencing Christ through worship\, a message specific for students during this time and engaging games\, skits and stories.
URL:https://www.wc.org/students/
CATEGORIES:Campus - Atascocita,Campus - Woodlands,Service Times,Student Ministry Service
ATTACH;FMTTYPE=image/png:https://www.wc.org/wp-content/uploads/2022/01/Events-Page.png
END:VEVENT
BEGIN:VEVENT
DTSTART;TZID=America/Chicago:20230923T090000
DTEND;TZID=America/Chicago:20230923T150000
DTSTAMP:20260422T093234
CREATED:20220125T220646Z
LAST-MODIFIED:20230606T213007Z
UID:10002386-1695459600-1695481200@www.wc.org
SUMMARY:Bridging The Gap Lay Counseling Training
DESCRIPTION:Bridging the Gap is a training for any individual designed to provide a better understanding of God’s plan for healing. It provides an effective means of communication to individuals who are feeling discouraged\, confused\, helpless and alone. Each session is designed to provide information that is clinically sound and Biblically grounded. Boxed lunches and snacks will be served. Childcare not provided. Please contact lpark@wc.org for more information. \n\n\n\nCost of Training- $180.00 Location: Club 45Dates for Training (Saturday’s)August 19th – 9:00am to 3:00pmSeptember 9th – 9:00am to 3:00pmSeptember 23rd – 9:00am to 3:00pmOctober 7th – 9:00am to 3:00pmOctober 21st – 9:00am to 3:00pm \n\n\n\n\nRegister
URL:https://www.wc.org/event/bridging-the-gap-lay-counseling-training/2023-09-23/
LOCATION:Woodlands Campus
CATEGORIES:Campus - Woodlands,Prayer and Care
ATTACH;FMTTYPE=image/jpeg:https://www.wc.org/wp-content/uploads/2023/06/btg_logo.jpg
END:VEVENT
END:VCALENDAR