BEGIN:VCALENDAR
VERSION:2.0
PRODID:-//Woodlands Church - ECPv6.15.17.1//NONSGML v1.0//EN
CALSCALE:GREGORIAN
METHOD:PUBLISH
X-ORIGINAL-URL:https://www.wc.org
X-WR-CALDESC:Events for Woodlands Church
REFRESH-INTERVAL;VALUE=DURATION:PT1H
X-Robots-Tag:noindex
X-PUBLISHED-TTL:PT1H
BEGIN:VTIMEZONE
TZID:America/Chicago
BEGIN:DAYLIGHT
TZOFFSETFROM:-0600
TZOFFSETTO:-0500
TZNAME:CDT
DTSTART:20230312T080000
END:DAYLIGHT
BEGIN:STANDARD
TZOFFSETFROM:-0500
TZOFFSETTO:-0600
TZNAME:CST
DTSTART:20231105T070000
END:STANDARD
BEGIN:DAYLIGHT
TZOFFSETFROM:-0600
TZOFFSETTO:-0500
TZNAME:CDT
DTSTART:20240310T080000
END:DAYLIGHT
BEGIN:STANDARD
TZOFFSETFROM:-0500
TZOFFSETTO:-0600
TZNAME:CST
DTSTART:20241103T070000
END:STANDARD
BEGIN:DAYLIGHT
TZOFFSETFROM:-0600
TZOFFSETTO:-0500
TZNAME:CDT
DTSTART:20250309T080000
END:DAYLIGHT
BEGIN:STANDARD
TZOFFSETFROM:-0500
TZOFFSETTO:-0600
TZNAME:CST
DTSTART:20251102T070000
END:STANDARD
END:VTIMEZONE
BEGIN:VEVENT
DTSTART;TZID=America/Chicago:20241013T180000
DTEND;TZID=America/Chicago:20241013T200000
DTSTAMP:20260421T072540
CREATED:20220107T204945Z
LAST-MODIFIED:20241204T021452Z
UID:10003385-1728842400-1728849600@www.wc.org
SUMMARY:Young Adults Gathering
DESCRIPTION:Woodlands Church YA has returned to in-person services. From ages 18-28\, don’t miss out on experiencing Christ through worship and a message specifically tailored for you. \n\n\n\nWoodlands YA\n\n\n\nSundays at 6pm \n\n\n\n@woodlandsya
URL:https://www.wc.org/youngadults-2/
LOCATION:Woodlands Campus
CATEGORIES:Campus - Woodlands,Service Times,Young Adults
ATTACH;FMTTYPE=image/jpeg:https://www.wc.org/wp-content/uploads/2020/03/YoungAdults.jpg
END:VEVENT
BEGIN:VEVENT
DTSTART;TZID=America/Chicago:20241016T183000
DTEND;TZID=America/Chicago:20241016T183000
DTSTAMP:20260421T072540
CREATED:20220107T204057Z
LAST-MODIFIED:20251215T192828Z
UID:10003133-1729103400-1729103400@www.wc.org
SUMMARY:Student Service
DESCRIPTION:The Student Ministry will have in-person services each Wednesday evening at 6:30pm at all campuses. \n\n\n\nDon’t miss out students (6th-12th Grade) and parents on experiencing Christ through worship\, a message specific for students during this time and engaging games\, skits and stories.
URL:https://www.wc.org/students/
CATEGORIES:Campus - Atascocita,Campus - Woodlands,Service Times,Student Ministry Service
ATTACH;FMTTYPE=image/png:https://www.wc.org/wp-content/uploads/2022/01/Events-Page.png
END:VEVENT
BEGIN:VEVENT
DTSTART;TZID=America/Chicago:20241019T180000
DTEND;TZID=America/Chicago:20241019T193000
DTSTAMP:20260421T072541
CREATED:20230221T223132Z
LAST-MODIFIED:20260316T181952Z
UID:10002603-1729360800-1729366200@www.wc.org
SUMMARY:Saturday 6:00pm Service - Woodlands Campus
DESCRIPTION:
URL:http://live.wc.org
CATEGORIES:Campus - Online,Campus - Woodlands,Service Times
ATTACH;FMTTYPE=image/jpeg:https://www.wc.org/wp-content/uploads/2025/03/Sat-min.jpg
END:VEVENT
BEGIN:VEVENT
DTSTART;TZID=America/Chicago:20241020T090000
DTEND;TZID=America/Chicago:20241020T103000
DTSTAMP:20260421T072541
CREATED:20220222T170522Z
LAST-MODIFIED:20260316T182022Z
UID:10003644-1729414800-1729420200@www.wc.org
SUMMARY:Sunday Traditions Service - Woodlands Campus
DESCRIPTION:Join us in our Chapel in the Woods each Sunday morning for a traditional worship service\, featuring timeless hymns\, led by our choir\, and an uplifting and meaningful message of hope from Pastor Kerry Shook.
URL:https://live.wc.org
CATEGORIES:Campus - Woodlands,Service Times
ATTACH;FMTTYPE=image/png:https://www.wc.org/wp-content/uploads/2022/02/MicrosoftTeams-image-39-1.png
END:VEVENT
BEGIN:VEVENT
DTSTART;TZID=America/Chicago:20241020T113000
DTEND;TZID=America/Chicago:20241020T130000
DTSTAMP:20260421T072541
CREATED:20230221T225011Z
LAST-MODIFIED:20260316T182415Z
UID:10004131-1729423800-1729429200@www.wc.org
SUMMARY:Sunday 11:30 Service - Woodlands & Atascocita Campuses
DESCRIPTION:
URL:http://live.wc.org
CATEGORIES:Campus - Atascocita,Campus - Online,Campus - Woodlands,Service Times
ATTACH;FMTTYPE=image/jpeg:https://www.wc.org/wp-content/uploads/2025/03/Sun_1130-min.jpg
END:VEVENT
BEGIN:VEVENT
DTSTART;TZID=America/Chicago:20241020T180000
DTEND;TZID=America/Chicago:20241020T200000
DTSTAMP:20260421T072541
CREATED:20220107T204945Z
LAST-MODIFIED:20241204T021452Z
UID:10003386-1729447200-1729454400@www.wc.org
SUMMARY:Young Adults Gathering
DESCRIPTION:Woodlands Church YA has returned to in-person services. From ages 18-28\, don’t miss out on experiencing Christ through worship and a message specifically tailored for you. \n\n\n\nWoodlands YA\n\n\n\nSundays at 6pm \n\n\n\n@woodlandsya
URL:https://www.wc.org/youngadults-2/
LOCATION:Woodlands Campus
CATEGORIES:Campus - Woodlands,Service Times,Young Adults
ATTACH;FMTTYPE=image/jpeg:https://www.wc.org/wp-content/uploads/2020/03/YoungAdults.jpg
END:VEVENT
BEGIN:VEVENT
DTSTART;TZID=America/Chicago:20241023T183000
DTEND;TZID=America/Chicago:20241023T183000
DTSTAMP:20260421T072541
CREATED:20220107T204057Z
LAST-MODIFIED:20251215T192828Z
UID:10003134-1729708200-1729708200@www.wc.org
SUMMARY:Student Service
DESCRIPTION:The Student Ministry will have in-person services each Wednesday evening at 6:30pm at all campuses. \n\n\n\nDon’t miss out students (6th-12th Grade) and parents on experiencing Christ through worship\, a message specific for students during this time and engaging games\, skits and stories.
URL:https://www.wc.org/students/
CATEGORIES:Campus - Atascocita,Campus - Woodlands,Service Times,Student Ministry Service
ATTACH;FMTTYPE=image/png:https://www.wc.org/wp-content/uploads/2022/01/Events-Page.png
END:VEVENT
BEGIN:VEVENT
DTSTART;TZID=America/Chicago:20241026T180000
DTEND;TZID=America/Chicago:20241026T193000
DTSTAMP:20260421T072541
CREATED:20230221T223132Z
LAST-MODIFIED:20260316T181952Z
UID:10002604-1729965600-1729971000@www.wc.org
SUMMARY:Saturday 6:00pm Service - Woodlands Campus
DESCRIPTION:
URL:http://live.wc.org
CATEGORIES:Campus - Online,Campus - Woodlands,Service Times
ATTACH;FMTTYPE=image/jpeg:https://www.wc.org/wp-content/uploads/2025/03/Sat-min.jpg
END:VEVENT
BEGIN:VEVENT
DTSTART;TZID=America/Chicago:20241027T090000
DTEND;TZID=America/Chicago:20241027T103000
DTSTAMP:20260421T072541
CREATED:20220222T170522Z
LAST-MODIFIED:20260316T182022Z
UID:10003645-1730019600-1730025000@www.wc.org
SUMMARY:Sunday Traditions Service - Woodlands Campus
DESCRIPTION:Join us in our Chapel in the Woods each Sunday morning for a traditional worship service\, featuring timeless hymns\, led by our choir\, and an uplifting and meaningful message of hope from Pastor Kerry Shook.
URL:https://live.wc.org
CATEGORIES:Campus - Woodlands,Service Times
ATTACH;FMTTYPE=image/png:https://www.wc.org/wp-content/uploads/2022/02/MicrosoftTeams-image-39-1.png
END:VEVENT
BEGIN:VEVENT
DTSTART;TZID=America/Chicago:20241027T113000
DTEND;TZID=America/Chicago:20241027T130000
DTSTAMP:20260421T072541
CREATED:20230221T225011Z
LAST-MODIFIED:20260316T182415Z
UID:10004132-1730028600-1730034000@www.wc.org
SUMMARY:Sunday 11:30 Service - Woodlands & Atascocita Campuses
DESCRIPTION:
URL:http://live.wc.org
CATEGORIES:Campus - Atascocita,Campus - Online,Campus - Woodlands,Service Times
ATTACH;FMTTYPE=image/jpeg:https://www.wc.org/wp-content/uploads/2025/03/Sun_1130-min.jpg
END:VEVENT
BEGIN:VEVENT
DTSTART;TZID=America/Chicago:20241027T180000
DTEND;TZID=America/Chicago:20241027T200000
DTSTAMP:20260421T072541
CREATED:20220107T204945Z
LAST-MODIFIED:20241204T021452Z
UID:10003387-1730052000-1730059200@www.wc.org
SUMMARY:Young Adults Gathering
DESCRIPTION:Woodlands Church YA has returned to in-person services. From ages 18-28\, don’t miss out on experiencing Christ through worship and a message specifically tailored for you. \n\n\n\nWoodlands YA\n\n\n\nSundays at 6pm \n\n\n\n@woodlandsya
URL:https://www.wc.org/youngadults-2/
LOCATION:Woodlands Campus
CATEGORIES:Campus - Woodlands,Service Times,Young Adults
ATTACH;FMTTYPE=image/jpeg:https://www.wc.org/wp-content/uploads/2020/03/YoungAdults.jpg
END:VEVENT
BEGIN:VEVENT
DTSTART;TZID=America/Chicago:20241030T183000
DTEND;TZID=America/Chicago:20241030T183000
DTSTAMP:20260421T072541
CREATED:20220107T204057Z
LAST-MODIFIED:20251215T192828Z
UID:10003135-1730313000-1730313000@www.wc.org
SUMMARY:Student Service
DESCRIPTION:The Student Ministry will have in-person services each Wednesday evening at 6:30pm at all campuses. \n\n\n\nDon’t miss out students (6th-12th Grade) and parents on experiencing Christ through worship\, a message specific for students during this time and engaging games\, skits and stories.
URL:https://www.wc.org/students/
CATEGORIES:Campus - Atascocita,Campus - Woodlands,Service Times,Student Ministry Service
ATTACH;FMTTYPE=image/png:https://www.wc.org/wp-content/uploads/2022/01/Events-Page.png
END:VEVENT
BEGIN:VEVENT
DTSTART;TZID=America/Chicago:20241031T100000
DTEND;TZID=America/Chicago:20241031T110000
DTSTAMP:20260421T072541
CREATED:20240424T203507Z
LAST-MODIFIED:20241126T210236Z
UID:10004390-1730368800-1730372400@www.wc.org
SUMMARY:Coffee Connect
DESCRIPTION:The Embrace ministry invites you to Coffee Connect on the last Thursday of each month. This will be a time for parents to meet and connect with other parents of kids with special needs. Child care will be provided.
URL:https://www.wc.org/event/coffee-connect/2024-10-31/
CATEGORIES:Campus - Woodlands,WC Kids
ATTACH;FMTTYPE=image/jpeg:https://www.wc.org/wp-content/uploads/2024/04/Coffee-Connect-5Event-Tile.jpg
END:VEVENT
BEGIN:VEVENT
DTSTART;TZID=America/Chicago:20241102T180000
DTEND;TZID=America/Chicago:20241102T193000
DTSTAMP:20260421T072541
CREATED:20230221T223132Z
LAST-MODIFIED:20260316T181952Z
UID:10002605-1730570400-1730575800@www.wc.org
SUMMARY:Saturday 6:00pm Service - Woodlands Campus
DESCRIPTION:
URL:http://live.wc.org
CATEGORIES:Campus - Online,Campus - Woodlands,Service Times
ATTACH;FMTTYPE=image/jpeg:https://www.wc.org/wp-content/uploads/2025/03/Sat-min.jpg
END:VEVENT
BEGIN:VEVENT
DTSTART;TZID=America/Chicago:20241103T090000
DTEND;TZID=America/Chicago:20241103T103000
DTSTAMP:20260421T072541
CREATED:20220222T170522Z
LAST-MODIFIED:20260316T182022Z
UID:10003646-1730624400-1730629800@www.wc.org
SUMMARY:Sunday Traditions Service - Woodlands Campus
DESCRIPTION:Join us in our Chapel in the Woods each Sunday morning for a traditional worship service\, featuring timeless hymns\, led by our choir\, and an uplifting and meaningful message of hope from Pastor Kerry Shook.
URL:https://live.wc.org
CATEGORIES:Campus - Woodlands,Service Times
ATTACH;FMTTYPE=image/png:https://www.wc.org/wp-content/uploads/2022/02/MicrosoftTeams-image-39-1.png
END:VEVENT
BEGIN:VEVENT
DTSTART;TZID=America/Chicago:20241103T113000
DTEND;TZID=America/Chicago:20241103T130000
DTSTAMP:20260421T072541
CREATED:20230221T225011Z
LAST-MODIFIED:20260316T182415Z
UID:10004133-1730633400-1730638800@www.wc.org
SUMMARY:Sunday 11:30 Service - Woodlands & Atascocita Campuses
DESCRIPTION:
URL:http://live.wc.org
CATEGORIES:Campus - Atascocita,Campus - Online,Campus - Woodlands,Service Times
ATTACH;FMTTYPE=image/jpeg:https://www.wc.org/wp-content/uploads/2025/03/Sun_1130-min.jpg
END:VEVENT
BEGIN:VEVENT
DTSTART;TZID=America/Chicago:20241103T180000
DTEND;TZID=America/Chicago:20241103T200000
DTSTAMP:20260421T072541
CREATED:20220107T204945Z
LAST-MODIFIED:20241204T021452Z
UID:10003388-1730656800-1730664000@www.wc.org
SUMMARY:Young Adults Gathering
DESCRIPTION:Woodlands Church YA has returned to in-person services. From ages 18-28\, don’t miss out on experiencing Christ through worship and a message specifically tailored for you. \n\n\n\nWoodlands YA\n\n\n\nSundays at 6pm \n\n\n\n@woodlandsya
URL:https://www.wc.org/youngadults-2/
LOCATION:Woodlands Campus
CATEGORIES:Campus - Woodlands,Service Times,Young Adults
ATTACH;FMTTYPE=image/jpeg:https://www.wc.org/wp-content/uploads/2020/03/YoungAdults.jpg
END:VEVENT
BEGIN:VEVENT
DTSTART;TZID=America/Chicago:20241106T183000
DTEND;TZID=America/Chicago:20241106T183000
DTSTAMP:20260421T072541
CREATED:20220107T204057Z
LAST-MODIFIED:20251215T192828Z
UID:10003136-1730917800-1730917800@www.wc.org
SUMMARY:Student Service
DESCRIPTION:The Student Ministry will have in-person services each Wednesday evening at 6:30pm at all campuses. \n\n\n\nDon’t miss out students (6th-12th Grade) and parents on experiencing Christ through worship\, a message specific for students during this time and engaging games\, skits and stories.
URL:https://www.wc.org/students/
CATEGORIES:Campus - Atascocita,Campus - Woodlands,Service Times,Student Ministry Service
ATTACH;FMTTYPE=image/png:https://www.wc.org/wp-content/uploads/2022/01/Events-Page.png
END:VEVENT
BEGIN:VEVENT
DTSTART;TZID=America/Chicago:20241108T183000
DTEND;TZID=America/Chicago:20241108T203000
DTSTAMP:20260421T072541
CREATED:20220107T174301Z
LAST-MODIFIED:20240618T152459Z
UID:10002978-1731090600-1731097800@www.wc.org
SUMMARY:ANTI-TRAFFICKING PRAYER & INTERVENTION NIGHT
DESCRIPTION:Time: 6:30pmCampus: Woodlands CampusLocation: Green Room \n\n\n\nJoin us as we help raise awareness for the abolition of human trafficking around the Woodlands area in our Intervention Nights. In these nights we directly reach out to women trapped in human trafficking and help build a bridge for their escape. These interventions includes worship\, prayer\, technology intervention and tours to locations in the Woodlands area to directly speak and pray for individuals. \n\n\n\nIf you have questions please contact Terry\, tdavis@wc.org
URL:https://www.wc.org/event/anti-trafficking-intervention-night/2024-11-08/
CATEGORIES:Campus - Woodlands,Prayer and Care
ATTACH;FMTTYPE=image/jpeg:https://www.wc.org/wp-content/uploads/2023/05/MicrosoftTeams-image-113.jpg
END:VEVENT
BEGIN:VEVENT
DTSTART;TZID=America/Chicago:20241108T193000
DTEND;TZID=America/Chicago:20241108T213000
DTSTAMP:20260421T072541
CREATED:20241015T204216Z
LAST-MODIFIED:20241026T110822Z
UID:10002815-1731094200-1731101400@www.wc.org
SUMMARY:Woodlands Worship - Live Album Recording
DESCRIPTION:Join us for Woodlands Worship’s Live Album RecordingWe’re thrilled to invite you to an unforgettable night of worship as we record our next live album at our new downtown Houston campus!  \n\n\n\nDate & Time:Friday\, November 8 at 7:30pm Doors open at 6:30pm \n\n\n\nLocation:Woodlands Church East River Campus 4100 Clinton Dr. Houston\, TX 77020 \n\n\n\nFor more information and to get your free tickets\, register below: \n\n\n\n\n\n\n   Register
URL:https://www.wc.org/event/wc-worship-live-rec/
CATEGORIES:Campus - East River,One Time Events,Woodlands Worship
ATTACH;FMTTYPE=image/jpeg:https://www.wc.org/wp-content/uploads/2024/10/Album_Event.jpg
END:VEVENT
BEGIN:VEVENT
DTSTART;TZID=America/Chicago:20241109T180000
DTEND;TZID=America/Chicago:20241109T193000
DTSTAMP:20260421T072541
CREATED:20230221T223132Z
LAST-MODIFIED:20260316T181952Z
UID:10002606-1731175200-1731180600@www.wc.org
SUMMARY:Saturday 6:00pm Service - Woodlands Campus
DESCRIPTION:
URL:http://live.wc.org
CATEGORIES:Campus - Online,Campus - Woodlands,Service Times
ATTACH;FMTTYPE=image/jpeg:https://www.wc.org/wp-content/uploads/2025/03/Sat-min.jpg
END:VEVENT
BEGIN:VEVENT
DTSTART;TZID=America/Chicago:20241110T090000
DTEND;TZID=America/Chicago:20241110T103000
DTSTAMP:20260421T072541
CREATED:20220222T170522Z
LAST-MODIFIED:20260316T182022Z
UID:10003647-1731229200-1731234600@www.wc.org
SUMMARY:Sunday Traditions Service - Woodlands Campus
DESCRIPTION:Join us in our Chapel in the Woods each Sunday morning for a traditional worship service\, featuring timeless hymns\, led by our choir\, and an uplifting and meaningful message of hope from Pastor Kerry Shook.
URL:https://live.wc.org
CATEGORIES:Campus - Woodlands,Service Times
ATTACH;FMTTYPE=image/png:https://www.wc.org/wp-content/uploads/2022/02/MicrosoftTeams-image-39-1.png
END:VEVENT
BEGIN:VEVENT
DTSTART;TZID=America/Chicago:20241110T113000
DTEND;TZID=America/Chicago:20241110T130000
DTSTAMP:20260421T072541
CREATED:20230221T225011Z
LAST-MODIFIED:20260316T182415Z
UID:10004134-1731238200-1731243600@www.wc.org
SUMMARY:Sunday 11:30 Service - Woodlands & Atascocita Campuses
DESCRIPTION:
URL:http://live.wc.org
CATEGORIES:Campus - Atascocita,Campus - Online,Campus - Woodlands,Service Times
ATTACH;FMTTYPE=image/jpeg:https://www.wc.org/wp-content/uploads/2025/03/Sun_1130-min.jpg
END:VEVENT
BEGIN:VEVENT
DTSTART;TZID=America/Chicago:20241110T180000
DTEND;TZID=America/Chicago:20241110T200000
DTSTAMP:20260421T072541
CREATED:20220107T204945Z
LAST-MODIFIED:20241204T021452Z
UID:10003389-1731261600-1731268800@www.wc.org
SUMMARY:Young Adults Gathering
DESCRIPTION:Woodlands Church YA has returned to in-person services. From ages 18-28\, don’t miss out on experiencing Christ through worship and a message specifically tailored for you. \n\n\n\nWoodlands YA\n\n\n\nSundays at 6pm \n\n\n\n@woodlandsya
URL:https://www.wc.org/youngadults-2/
LOCATION:Woodlands Campus
CATEGORIES:Campus - Woodlands,Service Times,Young Adults
ATTACH;FMTTYPE=image/jpeg:https://www.wc.org/wp-content/uploads/2020/03/YoungAdults.jpg
END:VEVENT
BEGIN:VEVENT
DTSTART;TZID=America/Chicago:20241113T183000
DTEND;TZID=America/Chicago:20241113T183000
DTSTAMP:20260421T072541
CREATED:20220107T204057Z
LAST-MODIFIED:20251215T192828Z
UID:10003137-1731522600-1731522600@www.wc.org
SUMMARY:Student Service
DESCRIPTION:The Student Ministry will have in-person services each Wednesday evening at 6:30pm at all campuses. \n\n\n\nDon’t miss out students (6th-12th Grade) and parents on experiencing Christ through worship\, a message specific for students during this time and engaging games\, skits and stories.
URL:https://www.wc.org/students/
CATEGORIES:Campus - Atascocita,Campus - Woodlands,Service Times,Student Ministry Service
ATTACH;FMTTYPE=image/png:https://www.wc.org/wp-content/uploads/2022/01/Events-Page.png
END:VEVENT
BEGIN:VEVENT
DTSTART;TZID=America/Chicago:20241116T000000
DTEND;TZID=America/Chicago:20241117T235959
DTSTAMP:20260421T072541
CREATED:20241107T215041Z
LAST-MODIFIED:20241107T215619Z
UID:10004467-1731715200-1731887999@www.wc.org
SUMMARY:Angel Tree Lobby Volunteering - Woodlands
DESCRIPTION:Help bring Christmas joy to local families through our Angel Tree Ministry! Volunteer opportunities are available for sponsorships\, gift sorting and gift distribution. \n\n\n\nHere’s our Angel Tree timeline for our Woodlands campus:November 16 & 17: First Sponsorship Weekend in LobbyNovember 23 & 24: Second Sponsorship Weekend in LobbyNovember 30 & December 1: Third Sponsorship WeekendDecember 7 & 8: Gift Return Weekend – Gifts due back! \n\n\n\nClick below to find all the information about this year’s Angel Tree Ministry\, from sponsorship to volunteer roles. \n\n\n\n\n\n\n\n\n\n\n   Serve at Angel Tree
URL:https://www.wc.org/event/angel-tree-lobby-volunteering-woodlands/2024-11-16/
CATEGORIES:Campus - Woodlands,Missions
ATTACH;FMTTYPE=image/jpeg:https://www.wc.org/wp-content/uploads/2024/11/2024Artboard-1woodlands.jpg
END:VEVENT
BEGIN:VEVENT
DTSTART;TZID=America/Chicago:20241116T180000
DTEND;TZID=America/Chicago:20241116T193000
DTSTAMP:20260421T072541
CREATED:20230221T223132Z
LAST-MODIFIED:20260316T181952Z
UID:10002607-1731780000-1731785400@www.wc.org
SUMMARY:Saturday 6:00pm Service - Woodlands Campus
DESCRIPTION:
URL:http://live.wc.org
CATEGORIES:Campus - Online,Campus - Woodlands,Service Times
ATTACH;FMTTYPE=image/jpeg:https://www.wc.org/wp-content/uploads/2025/03/Sat-min.jpg
END:VEVENT
BEGIN:VEVENT
DTSTART;TZID=America/Chicago:20241117T090000
DTEND;TZID=America/Chicago:20241117T103000
DTSTAMP:20260421T072541
CREATED:20220222T170522Z
LAST-MODIFIED:20260316T182022Z
UID:10003648-1731834000-1731839400@www.wc.org
SUMMARY:Sunday Traditions Service - Woodlands Campus
DESCRIPTION:Join us in our Chapel in the Woods each Sunday morning for a traditional worship service\, featuring timeless hymns\, led by our choir\, and an uplifting and meaningful message of hope from Pastor Kerry Shook.
URL:https://live.wc.org
CATEGORIES:Campus - Woodlands,Service Times
ATTACH;FMTTYPE=image/png:https://www.wc.org/wp-content/uploads/2022/02/MicrosoftTeams-image-39-1.png
END:VEVENT
BEGIN:VEVENT
DTSTART;TZID=America/Chicago:20241117T113000
DTEND;TZID=America/Chicago:20241117T130000
DTSTAMP:20260421T072541
CREATED:20230221T225011Z
LAST-MODIFIED:20260316T182415Z
UID:10004135-1731843000-1731848400@www.wc.org
SUMMARY:Sunday 11:30 Service - Woodlands & Atascocita Campuses
DESCRIPTION:
URL:http://live.wc.org
CATEGORIES:Campus - Atascocita,Campus - Online,Campus - Woodlands,Service Times
ATTACH;FMTTYPE=image/jpeg:https://www.wc.org/wp-content/uploads/2025/03/Sun_1130-min.jpg
END:VEVENT
BEGIN:VEVENT
DTSTART;TZID=America/Chicago:20241117T180000
DTEND;TZID=America/Chicago:20241117T200000
DTSTAMP:20260421T072541
CREATED:20220107T204945Z
LAST-MODIFIED:20241204T021452Z
UID:10003390-1731866400-1731873600@www.wc.org
SUMMARY:Young Adults Gathering
DESCRIPTION:Woodlands Church YA has returned to in-person services. From ages 18-28\, don’t miss out on experiencing Christ through worship and a message specifically tailored for you. \n\n\n\nWoodlands YA\n\n\n\nSundays at 6pm \n\n\n\n@woodlandsya
URL:https://www.wc.org/youngadults-2/
LOCATION:Woodlands Campus
CATEGORIES:Campus - Woodlands,Service Times,Young Adults
ATTACH;FMTTYPE=image/jpeg:https://www.wc.org/wp-content/uploads/2020/03/YoungAdults.jpg
END:VEVENT
END:VCALENDAR