BEGIN:VCALENDAR
VERSION:2.0
PRODID:-//Woodlands Church - ECPv6.15.17.1//NONSGML v1.0//EN
CALSCALE:GREGORIAN
METHOD:PUBLISH
X-WR-CALNAME:Woodlands Church
X-ORIGINAL-URL:https://www.wc.org
X-WR-CALDESC:Events for Woodlands Church
REFRESH-INTERVAL;VALUE=DURATION:PT1H
X-Robots-Tag:noindex
X-PUBLISHED-TTL:PT1H
BEGIN:VTIMEZONE
TZID:America/Chicago
BEGIN:DAYLIGHT
TZOFFSETFROM:-0600
TZOFFSETTO:-0500
TZNAME:CDT
DTSTART:20250309T080000
END:DAYLIGHT
BEGIN:STANDARD
TZOFFSETFROM:-0500
TZOFFSETTO:-0600
TZNAME:CST
DTSTART:20251102T070000
END:STANDARD
BEGIN:DAYLIGHT
TZOFFSETFROM:-0600
TZOFFSETTO:-0500
TZNAME:CDT
DTSTART:20260308T080000
END:DAYLIGHT
BEGIN:STANDARD
TZOFFSETFROM:-0500
TZOFFSETTO:-0600
TZNAME:CST
DTSTART:20261101T070000
END:STANDARD
BEGIN:DAYLIGHT
TZOFFSETFROM:-0600
TZOFFSETTO:-0500
TZNAME:CDT
DTSTART:20270314T080000
END:DAYLIGHT
BEGIN:STANDARD
TZOFFSETFROM:-0500
TZOFFSETTO:-0600
TZNAME:CST
DTSTART:20271107T070000
END:STANDARD
END:VTIMEZONE
BEGIN:VEVENT
DTSTART;TZID=America/Chicago:20260427T094500
DTEND;TZID=America/Chicago:20260427T120000
DTSTAMP:20260421T042428
CREATED:20260326T153540Z
LAST-MODIFIED:20260326T153541Z
UID:10005098-1777283100-1777291200@www.wc.org
SUMMARY:Job Support Ministry - Monday Workshop
DESCRIPTION:If you’re seeking an opportunity to refine your job search skills\, receive expert coaching\, and confidently navigate a career change\, we invite you to join our Job Support Ministry workshop every Monday from 9:45 AM to 11:45 AM in K-1. \n\n\n\nCentral to our Job Seeker’s Journey is the emphasis on networking and developing a strategic marketing plan. During the workshop\, you’ll delve into the six work search tools essential for an effective job search\, engage with our encouragers\, and benefit from coaching provided by our experienced team of experienced team of Job Support Ministry coaches. They are here to guide you through this season\, offering career advice\, practical support\, and spiritual care. \n\n\n\nCollaborating with peers\, we’ll collectively enhance your job search skills\, providing you with personalized coaching from our dedicated team. This is an invaluable opportunity to strengthen your career prospects and navigate the job market with confidence. \n\n\n\nRegister below and we will see you at our next workshop. \n\n\n\n\n\n\n   Register
URL:https://www.wc.org/event/job-support-ministry-monday-workshop-2026/2026-04-27/
CATEGORIES:Campus - Woodlands,Job Support Ministry,Missions
ATTACH;FMTTYPE=image/jpeg:https://www.wc.org/wp-content/uploads/2026/03/JSM_monday-1024x484-1.jpg
END:VEVENT
BEGIN:VEVENT
DTSTART;TZID=America/Chicago:20260428T183000
DTEND;TZID=America/Chicago:20260428T203000
DTSTAMP:20260421T042428
CREATED:20220106T212306Z
LAST-MODIFIED:20260130T171227Z
UID:10004997-1777401000-1777408200@www.wc.org
SUMMARY:Divorce Care
DESCRIPTION:Divorce Care is a special support group where you can find help as you recover from the hurt of separation or divorce. There aren’t many people around you who understand the pain your divorce or separation has caused. To you. Your family. Your friends. That’s the reason for Divorce Care. It’s a series of support groups and seminars conducted by people who understand what you are experiencing. Most importantly\, you’ll learn how to deal with the pain of the past and look forward to rebuilding your life.  \n\n\n\nDates: Tuesdays\, starting January 27thTime: 6:30pm – 8:30pmCampus: Woodlands \n\n\n\nChildcare is provided. \n\n\n\n\n\nRegister Here
URL:https://www.wc.org/event/divorce-care/2026-04-28/
LOCATION:Woodlands Campus
CATEGORIES:Campus - Woodlands,Prayer and Care
ATTACH;FMTTYPE=image/jpeg:https://www.wc.org/wp-content/uploads/2023/07/MicrosoftTeams-image-129.jpg
END:VEVENT
BEGIN:VEVENT
DTSTART;TZID=America/Chicago:20260428T183000
DTEND;TZID=America/Chicago:20260428T203000
DTSTAMP:20260421T042428
CREATED:20220106T212320Z
LAST-MODIFIED:20260130T171312Z
UID:10005043-1777401000-1777408200@www.wc.org
SUMMARY:Grief Share
DESCRIPTION:Dates: Tuesdays\, starting January  27thTime: 6:30pm – 8:30pmCampus: Woodlands \n\n\n\nIf you’ve lost a spouse\, child\, family member or friend\, you’ve probably found that there are not many people who understand the deep hurt you feel. Grief Share at Woodlands Church is a ministry for people grieving the loss of someone close. This 13-week video & curriculum-based program is facilitated by people who understand what you are experiencing and want to offer you comfort and encouragement during this difficult time. \n\n\n\n\n\nRegister Here
URL:https://www.wc.org/event/grief-share/2026-04-28/
LOCATION:Woodlands Campus
CATEGORIES:Campus - Woodlands,Prayer and Care
ATTACH;FMTTYPE=image/png:https://www.wc.org/wp-content/uploads/2025/01/Grief-Share-Event-Tile.png
END:VEVENT
BEGIN:VEVENT
DTSTART;TZID=America/Chicago:20260428T190000
DTEND;TZID=America/Chicago:20260428T203000
DTSTAMP:20260421T042428
CREATED:20260107T170731Z
LAST-MODIFIED:20260130T171138Z
UID:10004951-1777402800-1777408200@www.wc.org
SUMMARY:Restoration
DESCRIPTION:What is Restoration? \n\n\n\nRestoration is a ministry to help people overcome life’s hurts\, habits and hang-ups through worship\, biblically-balanced teaching\, personal testimonies and support groups. We start the evening with worship followed by a biblical teaching or testimony. Within Restoration\, we offer Celebrate Recovery support groups and step studies as a tool to go deeper in the journey of recovery. Restoration is a safe place to experience freedom and transformation through God’s grace. Contact Restoration at restoration@wc.org \n\n\n\nEvery Tuesday at 7pm \n\n\n\nWhere: Edge Auditorium
URL:https://www.wc.org/event/restoration-2/2026-04-28/
LOCATION:Woodlands Campus
CATEGORIES:Campus - Woodlands,Prayer and Care
ATTACH;FMTTYPE=image/jpeg:https://www.wc.org/wp-content/uploads/2022/01/restoration_event.jpg
END:VEVENT
BEGIN:VEVENT
DTSTART;TZID=America/Chicago:20260428T190000
DTEND;TZID=America/Chicago:20260428T210000
DTSTAMP:20260421T042428
CREATED:20260127T220923Z
LAST-MODIFIED:20260223T211530Z
UID:10004927-1777402800-1777410000@www.wc.org
SUMMARY:Foster & Adoption Support Group
DESCRIPTION:Campus: Woodlands \n\n\n\nAre you a current Foster Parent or interested in becoming a Foster Parent/Adopting? Join us in the VIP Family Viewing Room on the last Tuesday of each month as we walk the journey together!  We will be working through Healing for Every Heart in Adoption. Childcare is provided. \n\n\n\n\n\n\nRegister Here\n\n\n\nIf you have questions please send an email to fostercareadoptionsupport@wc.org.
URL:https://www.wc.org/event/foster-adoption-support-group/2026-04-28/
CATEGORIES:Campus - Woodlands,Foster And Adoption Ministry,Missions
ATTACH;FMTTYPE=image/jpeg:https://www.wc.org/wp-content/uploads/2022/01/MicrosoftTeams-image-110.jpg
END:VEVENT
BEGIN:VEVENT
DTSTART;TZID=America/Chicago:20260429T090000
DTEND;TZID=America/Chicago:20260429T113000
DTSTAMP:20260421T042428
CREATED:20260226T214218Z
LAST-MODIFIED:20260317T145612Z
UID:10005084-1777453200-1777462200@www.wc.org
SUMMARY:Real Moms - Woodlands - Mornings
DESCRIPTION:A 6-week study designed for moms in the same life season\, to connect and grow in faith. This is a space where moms can be real about life\, struggles and hope while building lasting friendships and finding strength in community. Cost: $50 \n\n\n\n\nFellowship\n\n\n\nBreakfast Provided for Moms\n\n\n\nSnacks Provided for Children\n\n\n\nGroup Activities\n\n\n\nServing Opportunities\n\n\n\n\nWho is invited: Open to expectant mothers and mothers of children at any age. Childcare will be provided for birth through 5th grade.When: Wednesdays\, March 25th – April 29th Time: 9:00AM(Wed) – 11:30AM(Wed)Where: Woodlands Campus \n\n\n\n*Includes childcare\, snacks for kids\, breakfast for moms and fun activities \n\n\n\n\n\n\n\n\n\n   \n   Register
URL:https://www.wc.org/event/real-moms-woodlands-mornings-2/2026-04-29/
CATEGORIES:Campus - Woodlands,Life Groups,WC Kids
ATTACH;FMTTYPE=image/png:https://www.wc.org/wp-content/uploads/2026/02/Real-MomsEvent-Tile-1.png
END:VEVENT
BEGIN:VEVENT
DTSTART;TZID=America/Chicago:20260429T183000
DTEND;TZID=America/Chicago:20260429T183000
DTSTAMP:20260421T042428
CREATED:20220107T204057Z
LAST-MODIFIED:20251215T192828Z
UID:10003211-1777487400-1777487400@www.wc.org
SUMMARY:Student Service
DESCRIPTION:The Student Ministry will have in-person services each Wednesday evening at 6:30pm at all campuses. \n\n\n\nDon’t miss out students (6th-12th Grade) and parents on experiencing Christ through worship\, a message specific for students during this time and engaging games\, skits and stories.
URL:https://www.wc.org/students/
CATEGORIES:Campus - Atascocita,Campus - Woodlands,Service Times,Student Ministry Service
ATTACH;FMTTYPE=image/png:https://www.wc.org/wp-content/uploads/2022/01/Events-Page.png
END:VEVENT
BEGIN:VEVENT
DTSTART;TZID=America/Chicago:20260501T180000
DTEND;TZID=America/Chicago:20260501T210000
DTSTAMP:20260421T042429
CREATED:20230806T141529Z
LAST-MODIFIED:20260317T204232Z
UID:10002720-1777658400-1777669200@www.wc.org
SUMMARY:FOSTER PARENT'S NIGHT OUT
DESCRIPTION:Foster and kinship parents – we are excited to invite you to enjoy a well-deserved evening off while we provide childcare for your children. They will have a pizza dinner followed by crafts and lots of play time. Thanks to the love and support of our congregation for this ministry\, this event is completely free of charge. Drop-off will be at 6:00 PM and we kindly ask you pick up your children by 9:00 PM sharp.  \n\n\n\nWhen you arrive on campus\, look for a 3-story tall wall of glass located to the left of the church’s main entrance (with the large white cross and fountain behind you). Once inside walk straight back to the WC Kids check-in counter which is on the first floor behind the indoor playground. The playground is HUGE – you can’t miss it.  \n\n\n\nWe hope you’ll take advantage of this wonderful opportunity to relax and recharge while your kids enjoy a safe and fun evening with our trained volunteers and childcare providers. \n\n\n\n\nChildcare Registration\nVolunteer Registration
URL:https://www.wc.org/event/foster-parents-night-out-2/
CATEGORIES:Campus - Woodlands,Foster And Adoption Ministry,Missions,One Time Events
ATTACH;FMTTYPE=image/jpeg:https://www.wc.org/wp-content/uploads/2023/08/PNOArtboard-2.jpg
END:VEVENT
BEGIN:VEVENT
DTSTART;TZID=America/Chicago:20260502T180000
DTEND;TZID=America/Chicago:20260502T193000
DTSTAMP:20260421T042429
CREATED:20230221T223132Z
LAST-MODIFIED:20260316T181952Z
UID:10002681-1777744800-1777750200@www.wc.org
SUMMARY:Saturday 6:00pm Service - Woodlands Campus
DESCRIPTION:
URL:http://live.wc.org
CATEGORIES:Campus - Online,Campus - Woodlands,Service Times
ATTACH;FMTTYPE=image/jpeg:https://www.wc.org/wp-content/uploads/2025/03/Sat-min.jpg
END:VEVENT
BEGIN:VEVENT
DTSTART;TZID=America/Chicago:20260503T090000
DTEND;TZID=America/Chicago:20260503T103000
DTSTAMP:20260421T042429
CREATED:20220222T170522Z
LAST-MODIFIED:20260316T182022Z
UID:10003722-1777798800-1777804200@www.wc.org
SUMMARY:Sunday Traditions Service - Woodlands Campus
DESCRIPTION:Join us in our Chapel in the Woods each Sunday morning for a traditional worship service\, featuring timeless hymns\, led by our choir\, and an uplifting and meaningful message of hope from Pastor Kerry Shook.
URL:https://live.wc.org
CATEGORIES:Campus - Woodlands,Service Times
ATTACH;FMTTYPE=image/png:https://www.wc.org/wp-content/uploads/2022/02/MicrosoftTeams-image-39-1.png
END:VEVENT
BEGIN:VEVENT
DTSTART;TZID=America/Chicago:20260503T093000
DTEND;TZID=America/Chicago:20260503T110000
DTSTAMP:20260421T042429
CREATED:20230221T224326Z
LAST-MODIFIED:20260316T182124Z
UID:10004015-1777800600-1777806000@www.wc.org
SUMMARY:Sunday 9:30 Service - Woodlands & Atascocita Campuses
DESCRIPTION:
URL:http://live.wc.org
CATEGORIES:Campus - Atascocita,Campus - Online,Campus - Woodlands,Service Times
ATTACH;FMTTYPE=image/jpeg:https://www.wc.org/wp-content/uploads/2025/03/Sun_930-min.jpg
END:VEVENT
BEGIN:VEVENT
DTSTART;TZID=America/Chicago:20260503T100000
DTEND;TZID=America/Chicago:20260503T113000
DTSTAMP:20260421T042429
CREATED:20241108T165912Z
LAST-MODIFIED:20260316T182341Z
UID:10004539-1777802400-1777807800@www.wc.org
SUMMARY:Sunday 10:00 Service - East River Campus
DESCRIPTION:
URL:http://live.wc.org
CATEGORIES:Campus - East River,Campus - Online,Service Times
ATTACH;FMTTYPE=image/jpeg:https://www.wc.org/wp-content/uploads/2024/11/East-River_1.jpg
END:VEVENT
BEGIN:VEVENT
DTSTART;TZID=America/Chicago:20260503T113000
DTEND;TZID=America/Chicago:20260503T130000
DTSTAMP:20260421T042429
CREATED:20230221T225011Z
LAST-MODIFIED:20260316T182415Z
UID:10004209-1777807800-1777813200@www.wc.org
SUMMARY:Sunday 11:30 Service - Woodlands & Atascocita Campuses
DESCRIPTION:
URL:http://live.wc.org
CATEGORIES:Campus - Atascocita,Campus - Online,Campus - Woodlands,Service Times
ATTACH;FMTTYPE=image/jpeg:https://www.wc.org/wp-content/uploads/2025/03/Sun_1130-min.jpg
END:VEVENT
BEGIN:VEVENT
DTSTART;TZID=America/Chicago:20260504T094500
DTEND;TZID=America/Chicago:20260504T120000
DTSTAMP:20260421T042429
CREATED:20260326T153540Z
LAST-MODIFIED:20260326T153541Z
UID:10005099-1777887900-1777896000@www.wc.org
SUMMARY:Job Support Ministry - Monday Workshop
DESCRIPTION:If you’re seeking an opportunity to refine your job search skills\, receive expert coaching\, and confidently navigate a career change\, we invite you to join our Job Support Ministry workshop every Monday from 9:45 AM to 11:45 AM in K-1. \n\n\n\nCentral to our Job Seeker’s Journey is the emphasis on networking and developing a strategic marketing plan. During the workshop\, you’ll delve into the six work search tools essential for an effective job search\, engage with our encouragers\, and benefit from coaching provided by our experienced team of experienced team of Job Support Ministry coaches. They are here to guide you through this season\, offering career advice\, practical support\, and spiritual care. \n\n\n\nCollaborating with peers\, we’ll collectively enhance your job search skills\, providing you with personalized coaching from our dedicated team. This is an invaluable opportunity to strengthen your career prospects and navigate the job market with confidence. \n\n\n\nRegister below and we will see you at our next workshop. \n\n\n\n\n\n\n   Register
URL:https://www.wc.org/event/job-support-ministry-monday-workshop-2026/2026-05-04/
CATEGORIES:Campus - Woodlands,Job Support Ministry,Missions
ATTACH;FMTTYPE=image/jpeg:https://www.wc.org/wp-content/uploads/2026/03/JSM_monday-1024x484-1.jpg
END:VEVENT
BEGIN:VEVENT
DTSTART;TZID=America/Chicago:20260505T183000
DTEND;TZID=America/Chicago:20260505T203000
DTSTAMP:20260421T042429
CREATED:20220106T212306Z
LAST-MODIFIED:20260130T171227Z
UID:10004998-1778005800-1778013000@www.wc.org
SUMMARY:Divorce Care
DESCRIPTION:Divorce Care is a special support group where you can find help as you recover from the hurt of separation or divorce. There aren’t many people around you who understand the pain your divorce or separation has caused. To you. Your family. Your friends. That’s the reason for Divorce Care. It’s a series of support groups and seminars conducted by people who understand what you are experiencing. Most importantly\, you’ll learn how to deal with the pain of the past and look forward to rebuilding your life.  \n\n\n\nDates: Tuesdays\, starting January 27thTime: 6:30pm – 8:30pmCampus: Woodlands \n\n\n\nChildcare is provided. \n\n\n\n\n\nRegister Here
URL:https://www.wc.org/event/divorce-care/2026-05-05/
LOCATION:Woodlands Campus
CATEGORIES:Campus - Woodlands,Prayer and Care
ATTACH;FMTTYPE=image/jpeg:https://www.wc.org/wp-content/uploads/2023/07/MicrosoftTeams-image-129.jpg
END:VEVENT
BEGIN:VEVENT
DTSTART;TZID=America/Chicago:20260505T183000
DTEND;TZID=America/Chicago:20260505T203000
DTSTAMP:20260421T042429
CREATED:20220106T212320Z
LAST-MODIFIED:20260130T171312Z
UID:10005044-1778005800-1778013000@www.wc.org
SUMMARY:Grief Share
DESCRIPTION:Dates: Tuesdays\, starting January  27thTime: 6:30pm – 8:30pmCampus: Woodlands \n\n\n\nIf you’ve lost a spouse\, child\, family member or friend\, you’ve probably found that there are not many people who understand the deep hurt you feel. Grief Share at Woodlands Church is a ministry for people grieving the loss of someone close. This 13-week video & curriculum-based program is facilitated by people who understand what you are experiencing and want to offer you comfort and encouragement during this difficult time. \n\n\n\n\n\nRegister Here
URL:https://www.wc.org/event/grief-share/2026-05-05/
LOCATION:Woodlands Campus
CATEGORIES:Campus - Woodlands,Prayer and Care
ATTACH;FMTTYPE=image/png:https://www.wc.org/wp-content/uploads/2025/01/Grief-Share-Event-Tile.png
END:VEVENT
BEGIN:VEVENT
DTSTART;TZID=America/Chicago:20260505T190000
DTEND;TZID=America/Chicago:20260505T203000
DTSTAMP:20260421T042429
CREATED:20260107T170731Z
LAST-MODIFIED:20260130T171138Z
UID:10004952-1778007600-1778013000@www.wc.org
SUMMARY:Restoration
DESCRIPTION:What is Restoration? \n\n\n\nRestoration is a ministry to help people overcome life’s hurts\, habits and hang-ups through worship\, biblically-balanced teaching\, personal testimonies and support groups. We start the evening with worship followed by a biblical teaching or testimony. Within Restoration\, we offer Celebrate Recovery support groups and step studies as a tool to go deeper in the journey of recovery. Restoration is a safe place to experience freedom and transformation through God’s grace. Contact Restoration at restoration@wc.org \n\n\n\nEvery Tuesday at 7pm \n\n\n\nWhere: Edge Auditorium
URL:https://www.wc.org/event/restoration-2/2026-05-05/
LOCATION:Woodlands Campus
CATEGORIES:Campus - Woodlands,Prayer and Care
ATTACH;FMTTYPE=image/jpeg:https://www.wc.org/wp-content/uploads/2022/01/restoration_event.jpg
END:VEVENT
BEGIN:VEVENT
DTSTART;TZID=America/Chicago:20260506T183000
DTEND;TZID=America/Chicago:20260506T183000
DTSTAMP:20260421T042429
CREATED:20220107T204057Z
LAST-MODIFIED:20251215T192828Z
UID:10003212-1778092200-1778092200@www.wc.org
SUMMARY:Student Service
DESCRIPTION:The Student Ministry will have in-person services each Wednesday evening at 6:30pm at all campuses. \n\n\n\nDon’t miss out students (6th-12th Grade) and parents on experiencing Christ through worship\, a message specific for students during this time and engaging games\, skits and stories.
URL:https://www.wc.org/students/
CATEGORIES:Campus - Atascocita,Campus - Woodlands,Service Times,Student Ministry Service
ATTACH;FMTTYPE=image/png:https://www.wc.org/wp-content/uploads/2022/01/Events-Page.png
END:VEVENT
BEGIN:VEVENT
DTSTART;TZID=America/Chicago:20260509T180000
DTEND;TZID=America/Chicago:20260509T193000
DTSTAMP:20260421T042429
CREATED:20230221T223132Z
LAST-MODIFIED:20260316T181952Z
UID:10002682-1778349600-1778355000@www.wc.org
SUMMARY:Saturday 6:00pm Service - Woodlands Campus
DESCRIPTION:
URL:http://live.wc.org
CATEGORIES:Campus - Online,Campus - Woodlands,Service Times
ATTACH;FMTTYPE=image/jpeg:https://www.wc.org/wp-content/uploads/2025/03/Sat-min.jpg
END:VEVENT
BEGIN:VEVENT
DTSTART;TZID=America/Chicago:20260510T090000
DTEND;TZID=America/Chicago:20260510T103000
DTSTAMP:20260421T042429
CREATED:20220222T170522Z
LAST-MODIFIED:20260316T182022Z
UID:10003723-1778403600-1778409000@www.wc.org
SUMMARY:Sunday Traditions Service - Woodlands Campus
DESCRIPTION:Join us in our Chapel in the Woods each Sunday morning for a traditional worship service\, featuring timeless hymns\, led by our choir\, and an uplifting and meaningful message of hope from Pastor Kerry Shook.
URL:https://live.wc.org
CATEGORIES:Campus - Woodlands,Service Times
ATTACH;FMTTYPE=image/png:https://www.wc.org/wp-content/uploads/2022/02/MicrosoftTeams-image-39-1.png
END:VEVENT
BEGIN:VEVENT
DTSTART;TZID=America/Chicago:20260510T093000
DTEND;TZID=America/Chicago:20260510T110000
DTSTAMP:20260421T042429
CREATED:20230221T224326Z
LAST-MODIFIED:20260316T182124Z
UID:10004016-1778405400-1778410800@www.wc.org
SUMMARY:Sunday 9:30 Service - Woodlands & Atascocita Campuses
DESCRIPTION:
URL:http://live.wc.org
CATEGORIES:Campus - Atascocita,Campus - Online,Campus - Woodlands,Service Times
ATTACH;FMTTYPE=image/jpeg:https://www.wc.org/wp-content/uploads/2025/03/Sun_930-min.jpg
END:VEVENT
BEGIN:VEVENT
DTSTART;TZID=America/Chicago:20260510T100000
DTEND;TZID=America/Chicago:20260510T113000
DTSTAMP:20260421T042429
CREATED:20241108T165912Z
LAST-MODIFIED:20260316T182341Z
UID:10004540-1778407200-1778412600@www.wc.org
SUMMARY:Sunday 10:00 Service - East River Campus
DESCRIPTION:
URL:http://live.wc.org
CATEGORIES:Campus - East River,Campus - Online,Service Times
ATTACH;FMTTYPE=image/jpeg:https://www.wc.org/wp-content/uploads/2024/11/East-River_1.jpg
END:VEVENT
BEGIN:VEVENT
DTSTART;TZID=America/Chicago:20260510T113000
DTEND;TZID=America/Chicago:20260510T130000
DTSTAMP:20260421T042429
CREATED:20230221T225011Z
LAST-MODIFIED:20260316T182415Z
UID:10004210-1778412600-1778418000@www.wc.org
SUMMARY:Sunday 11:30 Service - Woodlands & Atascocita Campuses
DESCRIPTION:
URL:http://live.wc.org
CATEGORIES:Campus - Atascocita,Campus - Online,Campus - Woodlands,Service Times
ATTACH;FMTTYPE=image/jpeg:https://www.wc.org/wp-content/uploads/2025/03/Sun_1130-min.jpg
END:VEVENT
BEGIN:VEVENT
DTSTART;TZID=America/Chicago:20260511T094500
DTEND;TZID=America/Chicago:20260511T120000
DTSTAMP:20260421T042429
CREATED:20260326T153540Z
LAST-MODIFIED:20260326T153541Z
UID:10005100-1778492700-1778500800@www.wc.org
SUMMARY:Job Support Ministry - Monday Workshop
DESCRIPTION:If you’re seeking an opportunity to refine your job search skills\, receive expert coaching\, and confidently navigate a career change\, we invite you to join our Job Support Ministry workshop every Monday from 9:45 AM to 11:45 AM in K-1. \n\n\n\nCentral to our Job Seeker’s Journey is the emphasis on networking and developing a strategic marketing plan. During the workshop\, you’ll delve into the six work search tools essential for an effective job search\, engage with our encouragers\, and benefit from coaching provided by our experienced team of experienced team of Job Support Ministry coaches. They are here to guide you through this season\, offering career advice\, practical support\, and spiritual care. \n\n\n\nCollaborating with peers\, we’ll collectively enhance your job search skills\, providing you with personalized coaching from our dedicated team. This is an invaluable opportunity to strengthen your career prospects and navigate the job market with confidence. \n\n\n\nRegister below and we will see you at our next workshop. \n\n\n\n\n\n\n   Register
URL:https://www.wc.org/event/job-support-ministry-monday-workshop-2026/2026-05-11/
CATEGORIES:Campus - Woodlands,Job Support Ministry,Missions
ATTACH;FMTTYPE=image/jpeg:https://www.wc.org/wp-content/uploads/2026/03/JSM_monday-1024x484-1.jpg
END:VEVENT
BEGIN:VEVENT
DTSTART;TZID=America/Chicago:20260512T183000
DTEND;TZID=America/Chicago:20260512T203000
DTSTAMP:20260421T042429
CREATED:20220106T212306Z
LAST-MODIFIED:20260130T171227Z
UID:10004999-1778610600-1778617800@www.wc.org
SUMMARY:Divorce Care
DESCRIPTION:Divorce Care is a special support group where you can find help as you recover from the hurt of separation or divorce. There aren’t many people around you who understand the pain your divorce or separation has caused. To you. Your family. Your friends. That’s the reason for Divorce Care. It’s a series of support groups and seminars conducted by people who understand what you are experiencing. Most importantly\, you’ll learn how to deal with the pain of the past and look forward to rebuilding your life.  \n\n\n\nDates: Tuesdays\, starting January 27thTime: 6:30pm – 8:30pmCampus: Woodlands \n\n\n\nChildcare is provided. \n\n\n\n\n\nRegister Here
URL:https://www.wc.org/event/divorce-care/2026-05-12/
LOCATION:Woodlands Campus
CATEGORIES:Campus - Woodlands,Prayer and Care
ATTACH;FMTTYPE=image/jpeg:https://www.wc.org/wp-content/uploads/2023/07/MicrosoftTeams-image-129.jpg
END:VEVENT
BEGIN:VEVENT
DTSTART;TZID=America/Chicago:20260512T183000
DTEND;TZID=America/Chicago:20260512T203000
DTSTAMP:20260421T042429
CREATED:20220106T212320Z
LAST-MODIFIED:20260130T171312Z
UID:10005045-1778610600-1778617800@www.wc.org
SUMMARY:Grief Share
DESCRIPTION:Dates: Tuesdays\, starting January  27thTime: 6:30pm – 8:30pmCampus: Woodlands \n\n\n\nIf you’ve lost a spouse\, child\, family member or friend\, you’ve probably found that there are not many people who understand the deep hurt you feel. Grief Share at Woodlands Church is a ministry for people grieving the loss of someone close. This 13-week video & curriculum-based program is facilitated by people who understand what you are experiencing and want to offer you comfort and encouragement during this difficult time. \n\n\n\n\n\nRegister Here
URL:https://www.wc.org/event/grief-share/2026-05-12/
LOCATION:Woodlands Campus
CATEGORIES:Campus - Woodlands,Prayer and Care
ATTACH;FMTTYPE=image/png:https://www.wc.org/wp-content/uploads/2025/01/Grief-Share-Event-Tile.png
END:VEVENT
BEGIN:VEVENT
DTSTART;TZID=America/Chicago:20260512T190000
DTEND;TZID=America/Chicago:20260512T203000
DTSTAMP:20260421T042429
CREATED:20260107T170731Z
LAST-MODIFIED:20260130T171138Z
UID:10004953-1778612400-1778617800@www.wc.org
SUMMARY:Restoration
DESCRIPTION:What is Restoration? \n\n\n\nRestoration is a ministry to help people overcome life’s hurts\, habits and hang-ups through worship\, biblically-balanced teaching\, personal testimonies and support groups. We start the evening with worship followed by a biblical teaching or testimony. Within Restoration\, we offer Celebrate Recovery support groups and step studies as a tool to go deeper in the journey of recovery. Restoration is a safe place to experience freedom and transformation through God’s grace. Contact Restoration at restoration@wc.org \n\n\n\nEvery Tuesday at 7pm \n\n\n\nWhere: Edge Auditorium
URL:https://www.wc.org/event/restoration-2/2026-05-12/
LOCATION:Woodlands Campus
CATEGORIES:Campus - Woodlands,Prayer and Care
ATTACH;FMTTYPE=image/jpeg:https://www.wc.org/wp-content/uploads/2022/01/restoration_event.jpg
END:VEVENT
BEGIN:VEVENT
DTSTART;TZID=America/Chicago:20260513T183000
DTEND;TZID=America/Chicago:20260513T183000
DTSTAMP:20260421T042429
CREATED:20220107T204057Z
LAST-MODIFIED:20251215T192828Z
UID:10003213-1778697000-1778697000@www.wc.org
SUMMARY:Student Service
DESCRIPTION:The Student Ministry will have in-person services each Wednesday evening at 6:30pm at all campuses. \n\n\n\nDon’t miss out students (6th-12th Grade) and parents on experiencing Christ through worship\, a message specific for students during this time and engaging games\, skits and stories.
URL:https://www.wc.org/students/
CATEGORIES:Campus - Atascocita,Campus - Woodlands,Service Times,Student Ministry Service
ATTACH;FMTTYPE=image/png:https://www.wc.org/wp-content/uploads/2022/01/Events-Page.png
END:VEVENT
BEGIN:VEVENT
DTSTART;TZID=America/Chicago:20260516T180000
DTEND;TZID=America/Chicago:20260516T193000
DTSTAMP:20260421T042429
CREATED:20230221T223132Z
LAST-MODIFIED:20260316T181952Z
UID:10002683-1778954400-1778959800@www.wc.org
SUMMARY:Saturday 6:00pm Service - Woodlands Campus
DESCRIPTION:
URL:http://live.wc.org
CATEGORIES:Campus - Online,Campus - Woodlands,Service Times
ATTACH;FMTTYPE=image/jpeg:https://www.wc.org/wp-content/uploads/2025/03/Sat-min.jpg
END:VEVENT
BEGIN:VEVENT
DTSTART;TZID=America/Chicago:20260517T090000
DTEND;TZID=America/Chicago:20260517T103000
DTSTAMP:20260421T042429
CREATED:20220222T170522Z
LAST-MODIFIED:20260316T182022Z
UID:10003724-1779008400-1779013800@www.wc.org
SUMMARY:Sunday Traditions Service - Woodlands Campus
DESCRIPTION:Join us in our Chapel in the Woods each Sunday morning for a traditional worship service\, featuring timeless hymns\, led by our choir\, and an uplifting and meaningful message of hope from Pastor Kerry Shook.
URL:https://live.wc.org
CATEGORIES:Campus - Woodlands,Service Times
ATTACH;FMTTYPE=image/png:https://www.wc.org/wp-content/uploads/2022/02/MicrosoftTeams-image-39-1.png
END:VEVENT
END:VCALENDAR