BEGIN:VCALENDAR
VERSION:2.0
PRODID:-//Woodlands Church - ECPv6.15.17.1//NONSGML v1.0//EN
CALSCALE:GREGORIAN
METHOD:PUBLISH
X-WR-CALNAME:Woodlands Church
X-ORIGINAL-URL:https://www.wc.org
X-WR-CALDESC:Events for Woodlands Church
REFRESH-INTERVAL;VALUE=DURATION:PT1H
X-Robots-Tag:noindex
X-PUBLISHED-TTL:PT1H
BEGIN:VTIMEZONE
TZID:America/Chicago
BEGIN:DAYLIGHT
TZOFFSETFROM:-0600
TZOFFSETTO:-0500
TZNAME:CDT
DTSTART:20250309T080000
END:DAYLIGHT
BEGIN:STANDARD
TZOFFSETFROM:-0500
TZOFFSETTO:-0600
TZNAME:CST
DTSTART:20251102T070000
END:STANDARD
BEGIN:DAYLIGHT
TZOFFSETFROM:-0600
TZOFFSETTO:-0500
TZNAME:CDT
DTSTART:20260308T080000
END:DAYLIGHT
BEGIN:STANDARD
TZOFFSETFROM:-0500
TZOFFSETTO:-0600
TZNAME:CST
DTSTART:20261101T070000
END:STANDARD
BEGIN:DAYLIGHT
TZOFFSETFROM:-0600
TZOFFSETTO:-0500
TZNAME:CDT
DTSTART:20270314T080000
END:DAYLIGHT
BEGIN:STANDARD
TZOFFSETFROM:-0500
TZOFFSETTO:-0600
TZNAME:CST
DTSTART:20271107T070000
END:STANDARD
END:VTIMEZONE
BEGIN:VEVENT
DTSTART;TZID=America/Chicago:20260713T090000
DTEND;TZID=America/Chicago:20260716T120000
DTSTAMP:20260422T055248
CREATED:20220217T205047Z
LAST-MODIFIED:20260224T170512Z
UID:10003471-1783933200-1784203200@www.wc.org
SUMMARY:VBS - Woodlands Campus
DESCRIPTION:VBS (Vacation Bible School) is an amazing day camp experience for your Preschool – 5th graders. Experience giant inflatable water slides\, play exciting games\, and compete in team challenges. This year we are going to be teaching kids to Giddy Up and Live for Jesus!
URL:https://www.woodlandsvbs.com
CATEGORIES:Campus - Woodlands,One Time Events,Summer Events,VBS,WC Kids
ATTACH;FMTTYPE=image/png:https://www.wc.org/wp-content/uploads/2026/02/VBS-Artwork.png
END:VEVENT
BEGIN:VEVENT
DTSTART;TZID=America/Chicago:20260720T090000
DTEND;TZID=America/Chicago:20260723T120000
DTSTAMP:20260422T055248
CREATED:20230504T192422Z
LAST-MODIFIED:20260224T170517Z
UID:10004264-1784538000-1784808000@www.wc.org
SUMMARY:VBS - Atascocita Campus
DESCRIPTION:
URL:https://www.woodlandsvbs.com
CATEGORIES:Campus - Atascocita,One Time Events,Summer Events,VBS,WC Kids
ATTACH;FMTTYPE=image/png:https://www.wc.org/wp-content/uploads/2026/02/VBS-Artwork.png
END:VEVENT
BEGIN:VEVENT
DTSTART;TZID=America/Chicago:20260720T090000
DTEND;TZID=America/Chicago:20260723T120000
DTSTAMP:20260422T055248
CREATED:20250214T204511Z
LAST-MODIFIED:20260224T170534Z
UID:10002842-1784538000-1784808000@www.wc.org
SUMMARY:VBS - East River Campus (Downtown Houston)
DESCRIPTION:
URL:https://www.woodlandsvbs.com
CATEGORIES:Campus - East River,One Time Events,Summer Events,VBS,WC Kids
ATTACH;FMTTYPE=image/png:https://www.wc.org/wp-content/uploads/2026/02/VBS-Artwork.png
END:VEVENT
END:VCALENDAR