BEGIN:VCALENDAR
VERSION:2.0
PRODID:-//Woodlands Church - ECPv6.15.17.1//NONSGML v1.0//EN
CALSCALE:GREGORIAN
METHOD:PUBLISH
X-WR-CALNAME:Woodlands Church
X-ORIGINAL-URL:https://www.wc.org
X-WR-CALDESC:Events for Woodlands Church
REFRESH-INTERVAL;VALUE=DURATION:PT1H
X-Robots-Tag:noindex
X-PUBLISHED-TTL:PT1H
BEGIN:VTIMEZONE
TZID:America/Chicago
BEGIN:DAYLIGHT
TZOFFSETFROM:-0600
TZOFFSETTO:-0500
TZNAME:CDT
DTSTART:20250309T080000
END:DAYLIGHT
BEGIN:STANDARD
TZOFFSETFROM:-0500
TZOFFSETTO:-0600
TZNAME:CST
DTSTART:20251102T070000
END:STANDARD
BEGIN:DAYLIGHT
TZOFFSETFROM:-0600
TZOFFSETTO:-0500
TZNAME:CDT
DTSTART:20260308T080000
END:DAYLIGHT
BEGIN:STANDARD
TZOFFSETFROM:-0500
TZOFFSETTO:-0600
TZNAME:CST
DTSTART:20261101T070000
END:STANDARD
BEGIN:DAYLIGHT
TZOFFSETFROM:-0600
TZOFFSETTO:-0500
TZNAME:CDT
DTSTART:20270314T080000
END:DAYLIGHT
BEGIN:STANDARD
TZOFFSETFROM:-0500
TZOFFSETTO:-0600
TZNAME:CST
DTSTART:20271107T070000
END:STANDARD
END:VTIMEZONE
BEGIN:VEVENT
DTSTART;TZID=America/Chicago:20260422T090000
DTEND;TZID=America/Chicago:20260422T113000
DTSTAMP:20260422T070849
CREATED:20260226T214218Z
LAST-MODIFIED:20260317T145612Z
UID:10005083-1776848400-1776857400@www.wc.org
SUMMARY:Real Moms - Woodlands - Mornings
DESCRIPTION:A 6-week study designed for moms in the same life season\, to connect and grow in faith. This is a space where moms can be real about life\, struggles and hope while building lasting friendships and finding strength in community. Cost: $50 \n\n\n\n\nFellowship\n\n\n\nBreakfast Provided for Moms\n\n\n\nSnacks Provided for Children\n\n\n\nGroup Activities\n\n\n\nServing Opportunities\n\n\n\n\nWho is invited: Open to expectant mothers and mothers of children at any age. Childcare will be provided for birth through 5th grade.When: Wednesdays\, March 25th – April 29th Time: 9:00AM(Wed) – 11:30AM(Wed)Where: Woodlands Campus \n\n\n\n*Includes childcare\, snacks for kids\, breakfast for moms and fun activities \n\n\n\n\n\n\n\n\n\n   \n   Register
URL:https://www.wc.org/event/real-moms-woodlands-mornings-2/2026-04-22/
CATEGORIES:Campus - Woodlands,Life Groups,WC Kids
ATTACH;FMTTYPE=image/png:https://www.wc.org/wp-content/uploads/2026/02/Real-MomsEvent-Tile-1.png
END:VEVENT
BEGIN:VEVENT
DTSTART;TZID=America/Chicago:20260422T183000
DTEND;TZID=America/Chicago:20260422T183000
DTSTAMP:20260422T070849
CREATED:20220107T204057Z
LAST-MODIFIED:20251215T192828Z
UID:10003210-1776882600-1776882600@www.wc.org
SUMMARY:Student Service
DESCRIPTION:The Student Ministry will have in-person services each Wednesday evening at 6:30pm at all campuses. \n\n\n\nDon’t miss out students (6th-12th Grade) and parents on experiencing Christ through worship\, a message specific for students during this time and engaging games\, skits and stories.
URL:https://www.wc.org/students/
CATEGORIES:Campus - Atascocita,Campus - Woodlands,Service Times,Student Ministry Service
ATTACH;FMTTYPE=image/png:https://www.wc.org/wp-content/uploads/2022/01/Events-Page.png
END:VEVENT
END:VCALENDAR